BEGIN:VCALENDAR
VERSION:2.0
PRODID:-//Caherleaheen National School - ECPv6.8.2.1//NONSGML v1.0//EN
CALSCALE:GREGORIAN
METHOD:PUBLISH
X-ORIGINAL-URL:http://www.caherleaheen.com
X-WR-CALDESC:Events for Caherleaheen National School
REFRESH-INTERVAL;VALUE=DURATION:PT1H
X-Robots-Tag:noindex
X-PUBLISHED-TTL:PT1H
BEGIN:VTIMEZONE
TZID:UTC
BEGIN:STANDARD
TZOFFSETFROM:+0000
TZOFFSETTO:+0000
TZNAME:UTC
DTSTART:20170101T000000
END:STANDARD
END:VTIMEZONE
BEGIN:VEVENT
DTSTART;TZID=UTC:20171212T151500
DTEND;TZID=UTC:20171212T160000
DTSTAMP:20260420T031701
CREATED:20171123T104444Z
LAST-MODIFIED:20171208T082238Z
UID:5898-1513091700-1513094400@www.caherleaheen.com
SUMMARY:Manor Shopping Centre. Carol Singing. 3pm-4pm
DESCRIPTION:St Vincent de Paul will provide a bus and collect singers from school at around 3pm. The carol singers will sing indoors in the shopping centre and will be bused back to school at 4pm\, where parents can collect them\, without fear of negotiating traffic and parking in Manor.
URL:http://www.caherleaheen.com/events/manor-shopping-centre-carol-singing-3pm-4pm/
END:VEVENT
END:VCALENDAR