BEGIN:VCALENDAR
VERSION:2.0
PRODID:-//Caherleaheen National School - ECPv6.8.2.1//NONSGML v1.0//EN
CALSCALE:GREGORIAN
METHOD:PUBLISH
X-WR-CALNAME:Caherleaheen National School
X-ORIGINAL-URL:http://www.caherleaheen.com
X-WR-CALDESC:Events for Caherleaheen National School
REFRESH-INTERVAL;VALUE=DURATION:PT1H
X-Robots-Tag:noindex
X-PUBLISHED-TTL:PT1H
BEGIN:VTIMEZONE
TZID:UTC
BEGIN:STANDARD
TZOFFSETFROM:+0000
TZOFFSETTO:+0000
TZNAME:UTC
DTSTART:20170101T000000
END:STANDARD
END:VTIMEZONE
BEGIN:VEVENT
DTSTART;TZID=UTC:20171219T110000
DTEND;TZID=UTC:20171219T140000
DTSTAMP:20260420T031243
CREATED:20171110T093632Z
LAST-MODIFIED:20171110T093717Z
UID:5811-1513681200-1513692000@www.caherleaheen.com
SUMMARY:Christmas Coffee Morning and Cake Sale: Tues 19th Dec.\, 11am-2pm
DESCRIPTION:Come and meet other parents\, neighbours\, children and teachers. Lig do scíth le cupán caife nó tae. Leave with delicious savoury and sweet baking. Lucky dip prizes and Christmas greenery arrangements on sale.
URL:http://www.caherleaheen.com/events/christmas-coffee-morning-and-cake-sale-tues-19th-dec-11am-2pm/
END:VEVENT
END:VCALENDAR