BEGIN:VCALENDAR
VERSION:2.0
PRODID:-//Caherleaheen National School - ECPv6.8.2.1//NONSGML v1.0//EN
CALSCALE:GREGORIAN
METHOD:PUBLISH
X-WR-CALNAME:Caherleaheen National School
X-ORIGINAL-URL:http://www.caherleaheen.com
X-WR-CALDESC:Events for Caherleaheen National School
REFRESH-INTERVAL;VALUE=DURATION:PT1H
X-Robots-Tag:noindex
X-PUBLISHED-TTL:PT1H
BEGIN:VTIMEZONE
TZID:UTC
BEGIN:STANDARD
TZOFFSETFROM:+0000
TZOFFSETTO:+0000
TZNAME:UTC
DTSTART:20180101T000000
END:STANDARD
END:VTIMEZONE
BEGIN:VEVENT
DTSTART;TZID=UTC:20180204T140000
DTEND;TZID=UTC:20180204T170000
DTSTAMP:20260419T232824
CREATED:20180114T142057Z
LAST-MODIFIED:20180114T142057Z
UID:6082-1517752800-1517763600@www.caherleaheen.com
SUMMARY:Bingo Bonanza! Sun. 4th Feb. 2pm. Rose Hotel.
DESCRIPTION:
URL:http://www.caherleaheen.com/events/bingo-bonanza-sun-4th-feb-2pm-rose-hotel/
END:VEVENT
END:VCALENDAR