BEGIN:VCALENDAR
VERSION:2.0
PRODID:-//Caherleaheen National School - ECPv6.8.2.1//NONSGML v1.0//EN
CALSCALE:GREGORIAN
METHOD:PUBLISH
X-ORIGINAL-URL:http://www.caherleaheen.com
X-WR-CALDESC:Events for Caherleaheen National School
REFRESH-INTERVAL;VALUE=DURATION:PT1H
X-Robots-Tag:noindex
X-PUBLISHED-TTL:PT1H
BEGIN:VTIMEZONE
TZID:UTC
BEGIN:STANDARD
TZOFFSETFROM:+0000
TZOFFSETTO:+0000
TZNAME:UTC
DTSTART:20180101T000000
END:STANDARD
END:VTIMEZONE
BEGIN:VEVENT
DTSTART;VALUE=DATE:20180319
DTEND;VALUE=DATE:20180320
DTSTAMP:20260420T011420
CREATED:20170904T191401Z
LAST-MODIFIED:20171018T200739Z
UID:5072-1521417600-1521503999@www.caherleaheen.com
SUMMARY:St Patrick's Weekend.
DESCRIPTION:Lá Fhéile Phádraig.
URL:http://www.caherleaheen.com/events/st-patricks-weekend-2/
END:VEVENT
END:VCALENDAR