BEGIN:VCALENDAR
VERSION:2.0
PRODID:-//Caherleaheen National School - ECPv6.8.2.1//NONSGML v1.0//EN
CALSCALE:GREGORIAN
METHOD:PUBLISH
X-ORIGINAL-URL:http://www.caherleaheen.com
X-WR-CALDESC:Events for Caherleaheen National School
REFRESH-INTERVAL;VALUE=DURATION:PT1H
X-Robots-Tag:noindex
X-PUBLISHED-TTL:PT1H
BEGIN:VTIMEZONE
TZID:UTC
BEGIN:STANDARD
TZOFFSETFROM:+0000
TZOFFSETTO:+0000
TZNAME:UTC
DTSTART:20180101T000000
END:STANDARD
END:VTIMEZONE
BEGIN:VEVENT
DTSTART;VALUE=DATE:20180323
DTEND;VALUE=DATE:20180409
DTSTAMP:20260420T005403
CREATED:20171018T195241Z
LAST-MODIFIED:20171018T200635Z
UID:5336-1521763200-1523231999@www.caherleaheen.com
SUMMARY:Easter Holidays 2018
DESCRIPTION:Easter Hols.
URL:http://www.caherleaheen.com/events/easter-holidays-2018/
END:VEVENT
END:VCALENDAR