BEGIN:VCALENDAR
VERSION:2.0
PRODID:-//Caherleaheen National School - ECPv6.8.2.1//NONSGML v1.0//EN
CALSCALE:GREGORIAN
METHOD:PUBLISH
X-WR-CALNAME:Caherleaheen National School
X-ORIGINAL-URL:http://www.caherleaheen.com
X-WR-CALDESC:Events for Caherleaheen National School
REFRESH-INTERVAL;VALUE=DURATION:PT1H
X-Robots-Tag:noindex
X-PUBLISHED-TTL:PT1H
BEGIN:VTIMEZONE
TZID:UTC
BEGIN:STANDARD
TZOFFSETFROM:+0000
TZOFFSETTO:+0000
TZNAME:UTC
DTSTART:20180101T000000
END:STANDARD
END:VTIMEZONE
BEGIN:VEVENT
DTSTART;VALUE=DATE:20180507
DTEND;VALUE=DATE:20180514
DTSTAMP:20260422T105106
CREATED:20171018T195418Z
LAST-MODIFIED:20171018T200606Z
UID:5338-1525651200-1526255999@www.caherleaheen.com
SUMMARY:May Holiday. 2018
DESCRIPTION:May Bank Holidays.
URL:http://www.caherleaheen.com/events/may-holiday-2018/
END:VEVENT
END:VCALENDAR