BEGIN:VCALENDAR
VERSION:2.0
PRODID:-//Caherleaheen National School - ECPv6.8.2.1//NONSGML v1.0//EN
CALSCALE:GREGORIAN
METHOD:PUBLISH
X-ORIGINAL-URL:http://www.caherleaheen.com
X-WR-CALDESC:Events for Caherleaheen National School
REFRESH-INTERVAL;VALUE=DURATION:PT1H
X-Robots-Tag:noindex
X-PUBLISHED-TTL:PT1H
BEGIN:VTIMEZONE
TZID:UTC
BEGIN:STANDARD
TZOFFSETFROM:+0000
TZOFFSETTO:+0000
TZNAME:UTC
DTSTART:20180101T000000
END:STANDARD
END:VTIMEZONE
BEGIN:VEVENT
DTSTART;TZID=UTC:20180521T133000
DTEND;TZID=UTC:20180521T134000
DTSTAMP:20260420T050335
CREATED:20180514T201656Z
LAST-MODIFIED:20180514T201656Z
UID:6636-1526909400-1526910000@www.caherleaheen.com
SUMMARY:Early Closure. 1.40pm All Classes.
DESCRIPTION:
URL:http://www.caherleaheen.com/events/early-closure-1-40pm-all-classes/
END:VEVENT
END:VCALENDAR