BEGIN:VCALENDAR
VERSION:2.0
PRODID:-//Caherleaheen National School - ECPv6.8.2.1//NONSGML v1.0//EN
CALSCALE:GREGORIAN
METHOD:PUBLISH
X-ORIGINAL-URL:http://www.caherleaheen.com
X-WR-CALDESC:Events for Caherleaheen National School
REFRESH-INTERVAL;VALUE=DURATION:PT1H
X-Robots-Tag:noindex
X-PUBLISHED-TTL:PT1H
BEGIN:VTIMEZONE
TZID:UTC
BEGIN:STANDARD
TZOFFSETFROM:+0000
TZOFFSETTO:+0000
TZNAME:UTC
DTSTART:20240101T000000
END:STANDARD
END:VTIMEZONE
BEGIN:VEVENT
DTSTART;TZID=UTC:20240311T190000
DTEND;TZID=UTC:20240311T194500
DTSTAMP:20260425T120428
CREATED:20240112T115203Z
LAST-MODIFIED:20240112T115203Z
UID:13022-1710183600-1710186300@www.caherleaheen.com
SUMMARY:Sacrament of Reconciliation/Confession. 11th March. Immaculate Conception\, Rathass.
DESCRIPTION:
URL:http://www.caherleaheen.com/events/sacrament-of-reconciliation-confession-11th-march-immaculate-conception-rathass/
END:VEVENT
END:VCALENDAR