BEGIN:VCALENDAR
VERSION:2.0
PRODID:-//Caherleaheen National School - ECPv6.8.2.1//NONSGML v1.0//EN
CALSCALE:GREGORIAN
METHOD:PUBLISH
X-WR-CALNAME:Caherleaheen National School
X-ORIGINAL-URL:http://www.caherleaheen.com
X-WR-CALDESC:Events for Caherleaheen National School
REFRESH-INTERVAL;VALUE=DURATION:PT1H
X-Robots-Tag:noindex
X-PUBLISHED-TTL:PT1H
BEGIN:VTIMEZONE
TZID:Europe/Dublin
BEGIN:STANDARD
TZOFFSETFROM:+0000
TZOFFSETTO:+0100
TZNAME:IST
DTSTART:20240331T010000
END:STANDARD
BEGIN:DAYLIGHT
TZOFFSETFROM:+0100
TZOFFSETTO:+0000
TZNAME:GMT
DTSTART:20241027T010000
END:DAYLIGHT
END:VTIMEZONE
BEGIN:VEVENT
DTSTART;TZID=Europe/Dublin:20241021T090000
DTEND;TZID=Europe/Dublin:20241025T222000
DTSTAMP:20260425T002009
CREATED:20241020T120806Z
LAST-MODIFIED:20241020T124507Z
UID:13230-1729501200-1729894800@www.caherleaheen.com
SUMMARY:Open Week 21st-25th Oct. 9-10:20am
DESCRIPTION:
URL:http://www.caherleaheen.com/events/open-week-21st-25th-oct-9-1020-pm/
END:VEVENT
END:VCALENDAR