BEGIN:VCALENDAR
VERSION:2.0
PRODID:-//Caherleaheen National School - ECPv6.8.2.1//NONSGML v1.0//EN
CALSCALE:GREGORIAN
METHOD:PUBLISH
X-WR-CALNAME:Caherleaheen National School
X-ORIGINAL-URL:http://www.caherleaheen.com
X-WR-CALDESC:Events for Caherleaheen National School
REFRESH-INTERVAL;VALUE=DURATION:PT1H
X-Robots-Tag:noindex
X-PUBLISHED-TTL:PT1H
BEGIN:VTIMEZONE
TZID:UTC
BEGIN:STANDARD
TZOFFSETFROM:+0000
TZOFFSETTO:+0000
TZNAME:UTC
DTSTART:20170101T000000
END:STANDARD
END:VTIMEZONE
BEGIN:VEVENT
DTSTART;TZID=UTC:20171004T193000
DTEND;TZID=UTC:20171004T195000
DTSTAMP:20260422T105105
CREATED:20171001T120409Z
LAST-MODIFIED:20171001T120409Z
UID:5181-1507145400-1507146600@www.caherleaheen.com
SUMMARY:After-School Tuition Enrolment.
DESCRIPTION:Irish dancing\, French\, Spanish\, Media Skills.
URL:http://www.caherleaheen.com/events/after-school-tuition-enrolment/
END:VEVENT
BEGIN:VEVENT
DTSTART;VALUE=DATE:20171016
DTEND;VALUE=DATE:20171021
DTSTAMP:20260422T105105
CREATED:20171001T120834Z
LAST-MODIFIED:20171001T120834Z
UID:5183-1508112000-1508543999@www.caherleaheen.com
SUMMARY:Maths Week.
DESCRIPTION:
URL:http://www.caherleaheen.com/events/maths-week/
END:VEVENT
BEGIN:VEVENT
DTSTART;TZID=UTC:20171018T110000
DTEND;TZID=UTC:20171018T123000
DTSTAMP:20260422T105105
CREATED:20171018T194832Z
LAST-MODIFIED:20171018T194928Z
UID:5333-1508324400-1508329800@www.caherleaheen.com
SUMMARY:Confirmation: Thursday 22nd. 11am. St John's.
DESCRIPTION:
URL:http://www.caherleaheen.com/events/confirmation-thursday-22nd-11am-st-johns/
END:VEVENT
BEGIN:VEVENT
DTSTART;VALUE=DATE:20171030
DTEND;VALUE=DATE:20171104
DTSTAMP:20260422T105105
CREATED:20170904T190923Z
LAST-MODIFIED:20170904T192015Z
UID:5066-1509321600-1509753599@www.caherleaheen.com
SUMMARY:Mid-term Break.
DESCRIPTION:
URL:http://www.caherleaheen.com/events/mid-term-break/
END:VEVENT
END:VCALENDAR