BEGIN:VCALENDAR
VERSION:2.0
PRODID:-//Caherleaheen National School - ECPv6.8.2.1//NONSGML v1.0//EN
CALSCALE:GREGORIAN
METHOD:PUBLISH
X-WR-CALNAME:Caherleaheen National School
X-ORIGINAL-URL:http://www.caherleaheen.com
X-WR-CALDESC:Events for Caherleaheen National School
REFRESH-INTERVAL;VALUE=DURATION:PT1H
X-Robots-Tag:noindex
X-PUBLISHED-TTL:PT1H
BEGIN:VTIMEZONE
TZID:UTC
BEGIN:STANDARD
TZOFFSETFROM:+0000
TZOFFSETTO:+0000
TZNAME:UTC
DTSTART:20170101T000000
END:STANDARD
END:VTIMEZONE
BEGIN:VEVENT
DTSTART;VALUE=DATE:20171222
DTEND;VALUE=DATE:20180108
DTSTAMP:20260419T232111
CREATED:20170904T191051Z
LAST-MODIFIED:20171018T201215Z
UID:5068-1513900800-1515369599@www.caherleaheen.com
SUMMARY:Christmas Holidays.
DESCRIPTION:Laethanta Saoire na Nollag.
URL:http://www.caherleaheen.com/events/christmas-holidays-2/
END:VEVENT
BEGIN:VEVENT
DTSTART;TZID=UTC:20180131T110000
DTEND;TZID=UTC:20180131T120000
DTSTAMP:20260419T232111
CREATED:20180115T232217Z
LAST-MODIFIED:20180115T232217Z
UID:6130-1517396400-1517400000@www.caherleaheen.com
SUMMARY:Grandparent's Day: Wed 31st Jan. 11-12pm.
DESCRIPTION:Fr Piotr\, staff and children look forward to welcoming all our grandparents and parents\, for a special blessing\, followed by a cup of tea and a chat!
URL:http://www.caherleaheen.com/events/grandparents-day-wed-31st-jan-11-12pm/
END:VEVENT
END:VCALENDAR