BEGIN:VCALENDAR
VERSION:2.0
PRODID:-//Caherleaheen National School - ECPv6.8.2.1//NONSGML v1.0//EN
CALSCALE:GREGORIAN
METHOD:PUBLISH
X-WR-CALNAME:Caherleaheen National School
X-ORIGINAL-URL:http://www.caherleaheen.com
X-WR-CALDESC:Events for Caherleaheen National School
REFRESH-INTERVAL;VALUE=DURATION:PT1H
X-Robots-Tag:noindex
X-PUBLISHED-TTL:PT1H
BEGIN:VTIMEZONE
TZID:UTC
BEGIN:STANDARD
TZOFFSETFROM:+0000
TZOFFSETTO:+0000
TZNAME:UTC
DTSTART:20230101T000000
END:STANDARD
END:VTIMEZONE
BEGIN:VEVENT
DTSTART;TZID=UTC:20231004T190000
DTEND;TZID=UTC:20231004T194500
DTSTAMP:20260425T181445
CREATED:20230926T112238Z
LAST-MODIFIED:20230926T112256Z
UID:12771-1696446000-1696448700@www.caherleaheen.com
SUMMARY:Holy Communion preparation 'Parents Talk' 7pm & St John's Parish Centre.
DESCRIPTION:
URL:http://www.caherleaheen.com/events/holy-communion-preparation-parents-talk-7pm-st-johns-parish-centre/
END:VEVENT
BEGIN:VEVENT
DTSTART;TZID=UTC:20231009T132000
DTEND;TZID=UTC:20231009T133000
DTSTAMP:20260425T181445
CREATED:20230926T115207Z
LAST-MODIFIED:20230926T115419Z
UID:12776-1696857600-1696858200@www.caherleaheen.com
SUMMARY:Mon 9th Oct. School Early Hometime at 1:20 pm. Staff Meetings.
DESCRIPTION:
URL:http://www.caherleaheen.com/events/mon-9th-oct-school-early-closure-at-120-pm-staff-meetings/
END:VEVENT
BEGIN:VEVENT
DTSTART;VALUE=DATE:20231023
DTEND;VALUE=DATE:20231028
DTSTAMP:20260425T181445
CREATED:20231016T101918Z
LAST-MODIFIED:20231016T101918Z
UID:12958-1698019200-1698451199@www.caherleaheen.com
SUMMARY:Open Week. Mon 23rd-Thurs 26th October. 9am-10.30 am
DESCRIPTION:Prospective parents are welcome to call in to our school any time on these Open Week mornings. It’s an opportunity to take a look around\, while our pupils and staff are in action.
URL:http://www.caherleaheen.com/events/open-week-mon-23rd-thurs-26th-october-9am-10-30-am/
END:VEVENT
BEGIN:VEVENT
DTSTART;TZID=UTC:20231025T190000
DTEND;TZID=UTC:20231025T200000
DTSTAMP:20260425T181445
CREATED:20230926T112441Z
LAST-MODIFIED:20230926T112457Z
UID:12773-1698260400-1698264000@www.caherleaheen.com
SUMMARY:Enrolment Ceremony for Holy Communion candidates. Wed. St John's Church @7 pm
DESCRIPTION:
URL:http://www.caherleaheen.com/events/enrolment-ceremony-holy-communion-candidates-wed-st-johns-church-7-pm/
END:VEVENT
END:VCALENDAR