BEGIN:VCALENDAR
VERSION:2.0
PRODID:-//Caherleaheen National School - ECPv6.8.2.1//NONSGML v1.0//EN
CALSCALE:GREGORIAN
METHOD:PUBLISH
X-ORIGINAL-URL:http://www.caherleaheen.com
X-WR-CALDESC:Events for Caherleaheen National School
REFRESH-INTERVAL;VALUE=DURATION:PT1H
X-Robots-Tag:noindex
X-PUBLISHED-TTL:PT1H
BEGIN:VTIMEZONE
TZID:Europe/Dublin
BEGIN:STANDARD
TZOFFSETFROM:+0000
TZOFFSETTO:+0100
TZNAME:IST
DTSTART:20250330T010000
END:STANDARD
BEGIN:DAYLIGHT
TZOFFSETFROM:+0100
TZOFFSETTO:+0000
TZNAME:GMT
DTSTART:20251026T010000
END:DAYLIGHT
END:VTIMEZONE
BEGIN:VEVENT
DTSTART;TZID=Europe/Dublin:20251020T090000
DTEND;TZID=Europe/Dublin:20251023T103000
DTSTAMP:20260422T152809
CREATED:20250918T123755Z
LAST-MODIFIED:20250918T123755Z
UID:13321-1760950800-1761215400@www.caherleaheen.com
SUMMARY:Open Week. 9am-10:30am
DESCRIPTION:
URL:http://www.caherleaheen.com/events/open-week-9am-1030am/
END:VEVENT
BEGIN:VEVENT
DTSTART;VALUE=DATE:20251024
DTEND;VALUE=DATE:20251025
DTSTAMP:20260422T152809
CREATED:20250918T123116Z
LAST-MODIFIED:20250918T123116Z
UID:13315-1761264000-1761350399@www.caherleaheen.com
SUMMARY:School Closure- Polling Day
DESCRIPTION:
URL:http://www.caherleaheen.com/events/school-closure-polling-day/
END:VEVENT
BEGIN:VEVENT
DTSTART;VALUE=DATE:20251027
DTEND;VALUE=DATE:20251101
DTSTAMP:20260422T152809
CREATED:20250918T123442Z
LAST-MODIFIED:20250918T123612Z
UID:13319-1761523200-1761955199@www.caherleaheen.com
SUMMARY:Mid-Term Break.
DESCRIPTION:
URL:http://www.caherleaheen.com/events/mid-term-break-4/
END:VEVENT
END:VCALENDAR